BEGIN:VCALENDAR
VERSION:2.0
PRODID:icalendar-ruby
CALSCALE:GREGORIAN
METHOD:PUBLISH
BEGIN:VEVENT
DTSTAMP:20260421T114129Z
UID:176-1039463@ourlivingwater.church
DTSTART:20260425T210000Z
DTEND:20260425T230000Z
CLASS:PUBLIC
CREATED:20260420T170654
DESCRIPTION:
LAST-MODIFIED:20260420T170654
LOCATION:Edward Mendoza Park\, 1774 Little River Rd\, Spring Lake\, NC 2839
 0
SUMMARY:20//30 Somethings BBQ in the Park
URL;VALUE=URI:https://ourlivingwater.church/events/20-30-somethings-bbq-in-
 the-park/2026-04-25
ATTACH;FILENAME=Screenshot-2026-04-20-at-4.58.26PM.png;FMTTYPE=image/png:ht
 tps://dq5pwpg1q8ru0.cloudfront.net/2026/04/20/21/06/54/a59627d2-ab78-4ddb-
 b8e3-621a6add7a8f/Screenshot-2026-04-20-at-4.58.26PM.png
END:VEVENT
END:VCALENDAR
